BEGIN:VCALENDAR
VERSION:2.0
PRODID:-//Your Organization//Holiday Calendar//EN
BEGIN:VEVENT
SUMMARY:New Year’s Day
DTSTART;VALUE=DATE:20260101
DTEND;VALUE=DATE:20260102
TRANSP:OPAQUE
END:VEVENT
BEGIN:VEVENT
SUMMARY:Martin Luther King Jr. Day
DTSTART;VALUE=DATE:20260119
DTEND;VALUE=DATE:20260120
TRANSP:OPAQUE
END:VEVENT
BEGIN:VEVENT
SUMMARY:Presidents’ Day
DTSTART;VALUE=DATE:20260216
DTEND;VALUE=DATE:20260217
TRANSP:OPAQUE
END:VEVENT
BEGIN:VEVENT
SUMMARY:Thank You Day
DTSTART;VALUE=DATE:20260327
DTEND;VALUE=DATE:20260328
TRANSP:OPAQUE
END:VEVENT
BEGIN:VEVENT
SUMMARY:Thank You Day
DTSTART;VALUE=DATE:20260522
DTEND;VALUE=DATE:20260523
TRANSP:OPAQUE
END:VEVENT
BEGIN:VEVENT
SUMMARY:Memorial Day
DTSTART;VALUE=DATE:20260525
DTEND;VALUE=DATE:20260526
TRANSP:OPAQUE
END:VEVENT
BEGIN:VEVENT
SUMMARY:Thank You Day
DTSTART;VALUE=DATE:20260618
DTEND;VALUE=DATE:20260619
TRANSP:OPAQUE
END:VEVENT
BEGIN:VEVENT
SUMMARY:Juneteenth
DTSTART;VALUE=DATE:20260619
DTEND;VALUE=DATE:20260620
TRANSP:OPAQUE
END:VEVENT
BEGIN:VEVENT
SUMMARY:Independence Day (observed)
DTSTART;VALUE=DATE:20260703
DTEND;VALUE=DATE:20260704
TRANSP:OPAQUE
END:VEVENT
BEGIN:VEVENT
SUMMARY:Thank You Day
DTSTART;VALUE=DATE:20260904
DTEND;VALUE=DATE:20260905
TRANSP:OPAQUE
END:VEVENT
BEGIN:VEVENT
SUMMARY:Labor Day
DTSTART;VALUE=DATE:20260907
DTEND;VALUE=DATE:20260908
TRANSP:OPAQUE
END:VEVENT
BEGIN:VEVENT
SUMMARY:Veterans Day
DTSTART;VALUE=DATE:20261111
DTEND;VALUE=DATE:20261112
TRANSP:OPAQUE
END:VEVENT
BEGIN:VEVENT
SUMMARY:Thanksgiving Day
DTSTART;VALUE=DATE:20261126
DTEND;VALUE=DATE:20261127
TRANSP:OPAQUE
END:VEVENT
BEGIN:VEVENT
SUMMARY:Thanksgiving Day After
DTSTART;VALUE=DATE:20261127
DTEND;VALUE=DATE:20261128
TRANSP:OPAQUE
END:VEVENT
BEGIN:VEVENT
SUMMARY:Christmas Eve
DTSTART;VALUE=DATE:20261224
DTEND;VALUE=DATE:20261225
TRANSP:OPAQUE
END:VEVENT
BEGIN:VEVENT
SUMMARY:Christmas Day
DTSTART;VALUE=DATE:20261225
DTEND;VALUE=DATE:20261226
TRANSP:OPAQUE
END:VEVENT
END:VCALENDAR