BEGIN:VCALENDAR
CALSCALE:GREGORIAN
PRODID:-//Apple Inc.//macOS 15.6.1//EN
VERSION:2.0
BEGIN:VTIMEZONE
TZID:America/Chicago
BEGIN:DAYLIGHT
DTSTART:20070311T020000
RRULE:FREQ=YEARLY;BYMONTH=3;BYDAY=2SU
TZNAME:CDT
TZOFFSETFROM:-0600
TZOFFSETTO:-0500
END:DAYLIGHT
BEGIN:STANDARD
DTSTART:20071104T020000
RRULE:FREQ=YEARLY;BYMONTH=11;BYDAY=1SU
TZNAME:CST
TZOFFSETFROM:-0500
TZOFFSETTO:-0600
END:STANDARD
END:VTIMEZONE
BEGIN:VEVENT
CREATED:20251209T162419Z
DESCRIPTION:Schedule a 45-minute appointment with your financial benefit
 s buddy\, Purav Patel. Talk through your retirement plans and get 1:1 su
 pport with your Fidelity benefits. 
DTEND;TZID=America/Chicago:20260318T180000
DTSTAMP:20251209T162732Z
DTSTART;TZID=America/Chicago:20260318T110000
LAST-MODIFIED:20251209T162721Z
LOCATION:https://nb.fidelity.com/public/nb/default/home?option=ledetail&
 Target=cours000000000007999
SEQUENCE:10
SUMMARY:Fidelity Virtual One-on-Ones
TRANSP:OPAQUE
UID:FC4F56AC-0029-46B7-B182-9C50D3AD9AA9
X-APPLE-CREATOR-IDENTITY:com.apple.calendar
X-APPLE-CREATOR-TEAM-IDENTITY:0000000000
END:VEVENT
END:VCALENDAR
